Workbook

Sheet Χώρες
A1: Logifin Savings Monitor, 2026-08. Καταθέσεις νοικοκυριών. Πηγές: ΕΚΤ, Eurostat. Υπολογισμοί: Logifin (logifin.eu).
A2: Χώρα | B2: Country | C2: Νέες προθεσμιακές έως 1 έτους (%) | D2: Λογαριασμοί όψεως και ταμιευτηρίου (%) | E2: Υπόλοιπα προθεσμιακών (%) | F2: Με προειδοποίηση έως 3 μήνες (%) | G2: Πληθωρισμός, ετήσια μεταβολή (%) | H2: Πραγματική απόδοση νέας προθεσμιακής (%) | I2: Πραγματική απόδοση όψεως και ταμιευτηρίου (%) | J2: Υπόλοιπο όψεως και ταμιευτηρίου (εκατ. €) | K2: Υπόλοιπο προθεσμιακών (εκατ. €) | L2: Υπόλοιπο με προειδοποίηση (εκατ. €) | M2: Μερίδιο όψεως και ταμιευτηρίου (%) | N2: Μερίδιο με προειδοποίηση (%) | O2: Θέση στις 21 χώρες (νέες προθεσμιακές)
A3: Ολλανδία | B3: Netherlands | C3: 2.54 | D3: 0.14 | E3: 2.45 | F3: 1.26 | G3: 2.8 | H3: =((1+C3/100)/(1+G3/100)-1)*100 -> -0.25291829 | I3: =((1+D3/100)/(1+G3/100)-1)*100 -> -2.5875486 | J3: 111003 | K3: 95848 | L3: 468871 | M3: =J3/(J3+K3+L3)*100 -> 16.427318 | N3: =L3/(J3+K3+L3)*100 -> 69.388151 | O3: =RANK(C3,$C$3:$C$23,0) -> 1
A4: Φινλανδία | B4: Finland | C4: 2.53 | D4: 0.38 | E4: 2.16 | F4: 0.36 | G4: 2.4 | H4: =((1+C4/100)/(1+G4/100)-1)*100 -> 0.12695313 | I4: =((1+D4/100)/(1+G4/100)-1)*100 -> -1.9726563 | J4: 75056 | K4: 18147 | L4: 28939 | M4: =J4/(J4+K4+L4)*100 -> 61.449788 | N4: =L4/(J4+K4+L4)*100 -> 23.692915 | O4: =RANK(C4,$C$3:$C$23,0) -> 2
A5: Λετονία | B5: Latvia | C5: 2.52 | D5: 0.42 | E5: 2.48 | F5: 1.8 | G5: 3 | H5: =((1+C5/100)/(1+G5/100)-1)*100 -> -0.46601942 | I5: =((1+D5/100)/(1+G5/100)-1)*100 -> -2.5048544 | J5: 10208 | K5: 2179 | L5: 1170 | M5: =J5/(J5+K5+L5)*100 -> 75.296895 | N5: =L5/(J5+K5+L5)*100 -> 8.6302279 | O5: =RANK(C5,$C$3:$C$23,0) -> 3
A6: Ιταλία | B6: Italy | C6: 2.46 | D6: 0.2 | E6: 2.68 | F6: 1.37 | G6: 3.2 | H6: =((1+C6/100)/(1+G6/100)-1)*100 -> -0.71705426 | I6: =((1+D6/100)/(1+G6/100)-1)*100 -> -2.9069767 | J6: 899389 | K6: 78504 | L6: 325349 | M6: =J6/(J6+K6+L6)*100 -> 69.011665 | N6: =L6/(J6+K6+L6)*100 -> 24.964588 | O6: =RANK(C6,$C$3:$C$23,0) -> 4
A7: Λιθουανία | B7: Lithuania | C7: 2.43 | D7: 0.25 | E7: 2.1 | F7: 0.79 | G7: 5.6 | H7: =((1+C7/100)/(1+G7/100)-1)*100 -> -3.0018939 | I7: =((1+D7/100)/(1+G7/100)-1)*100 -> -5.0662879 | J7: 27848 | K7: 9076 | L7: 302 | M7: =J7/(J7+K7+L7)*100 -> 74.80793 | N7: =L7/(J7+K7+L7)*100 -> 0.81126095 | O7: =RANK(C7,$C$3:$C$23,0) -> 5
A8: Γαλλία | B8: France | C8: 2.36 | D8: 0.05 | E8: 2.52 | F8: 1.55 | G8: 2.6 | H8: =((1+C8/100)/(1+G8/100)-1)*100 -> -0.23391813 | I8: =((1+D8/100)/(1+G8/100)-1)*100 -> -2.4853801 | J8: 592868 | K8: 408052 | L8: 966956 | M8: =J8/(J8+K8+L8)*100 -> 30.127305 | N8: =L8/(J8+K8+L8)*100 -> 49.137039 | O8: =RANK(C8,$C$3:$C$23,0) -> 6
A9: Εσθονία | B9: Estonia | C9: 2.35 | D9: 0.32 | E9: 2.31 | F9: 2.32 | G9: 1.3 | H9: =((1+C9/100)/(1+G9/100)-1)*100 -> 1.0365252 | I9: =((1+D9/100)/(1+G9/100)-1)*100 -> -0.96742349 | J9: 10159 | K9: 6443 | L9: 1949 | M9: =J9/(J9+K9+L9)*100 -> 54.762546 | N9: =L9/(J9+K9+L9)*100 -> 10.506172 | O9: =RANK(C9,$C$3:$C$23,0) -> 7
A10: Γερμανία | B10: Germany | C10: 2.28 | D10: 0.51 | E10: 1.76 | F10: 0.73 | G10: 2.9 | H10: =((1+C10/100)/(1+G10/100)-1)*100 -> -0.60252672 | I10: =((1+D10/100)/(1+G10/100)-1)*100 -> -2.3226433 | J10: 1943810 | K10: 710221 | L10: 375799 | M10: =J10/(J10+K10+L10)*100 -> 64.155745 | N10: =L10/(J10+K10+L10)*100 -> 12.403303 | O10: =RANK(C10,$C$3:$C$23,0) -> 8
A11: Μάλτα | B11: Malta | C11: 2.24 | D11: 0.07 | E11: 2.07 | F11: 1.74 | G11: 2 | H11: =((1+C11/100)/(1+G11/100)-1)*100 -> 0.23529412 | I11: =((1+D11/100)/(1+G11/100)-1)*100 -> -1.8921569 | J11: 18174.505 | K11: 4403.1497 | L11: 9.6157 | M11: =J11/(J11+K11+L11)*100 -> 80.463485 | N11: =L11/(J11+K11+L11)*100 -> 0.042571323 | O11: =RANK(C11,$C$3:$C$23,0) -> 9
A12: Σλοβακία | B12: Slovakia | C12: 2.18 | D12: 0.07 | E12: 1.87 | F12: 1.25 | G12: 3.1 | H12: =((1+C12/100)/(1+G12/100)-1)*100 -> -0.89233754 | I12: =((1+D12/100)/(1+G12/100)-1)*100 -> -2.9388943 | J12: 39581.017 | K12: 13919.912 | L12: 522.24559 | M12: =J12/(J12+K12+L12)*100 -> 73.266737 | N12: =L12/(J12+K12+L12)*100 -> 0.9667066 | O12: =RANK(C12,$C$3:$C$23,0) -> 10
A13: Αυστρία | B13: Austria | C13: 2.15 | D13: 0.45 | E13: 1.52 | F13: 1.94 | G13: 2.9 | H13: =((1+C13/100)/(1+G13/100)-1)*100 -> -0.72886297 | I13: =((1+D13/100)/(1+G13/100)-1)*100 -> -2.3809524 | J13: 206083 | K13: 126344 | L13: 130 | M13: =J13/(J13+K13+L13)*100 -> 61.969226 | N13: =L13/(J13+K13+L13)*100 -> 0.039091043 | O13: =RANK(C13,$C$3:$C$23,0) -> 11
A14: Βέλγιο | B14: Belgium | C14: 2.14 | D14: 0.06 | E14: 2.24 | F14: 0.72 | G14: 4.2 | H14: =((1+C14/100)/(1+G14/100)-1)*100 -> -1.9769674 | I14: =((1+D14/100)/(1+G14/100)-1)*100 -> -3.9731286 | J14: 108160 | K14: 44516 | L14: 312678 | M14: =J14/(J14+K14+L14)*100 -> 23.242521 | N14: =L14/(J14+K14+L14)*100 -> 67.191428 | O14: =RANK(C14,$C$3:$C$23,0) -> 12
A15: Ισπανία | B15: Spain | C15: 2.01 | D15: 0.16 | E15: 1.63 | G15: 4.6 | H15: =((1+C15/100)/(1+G15/100)-1)*100 -> -2.4760994 | I15: =((1+D15/100)/(1+G15/100)-1)*100 -> -4.2447419 | J15: 944583 | K15: 168340 | L15: 0 | M15: =J15/(J15+K15+L15)*100 -> 84.874066 | N15: =L15/(J15+K15+L15)*100 -> 0 | O15: =RANK(C15,$C$3:$C$23,0) -> 13
A16: Λουξεμβούργο | B16: Luxembourg | C16: 2 | D16: 0.6 | E16: 1.94 | F16: 2.02 | G16: 4 | H16: =((1+C16/100)/(1+G16/100)-1)*100 -> -1.9230769 | I16: =((1+D16/100)/(1+G16/100)-1)*100 -> -3.2692308 | J16: 54065 | K16: 27110 | L16: 1672 | M16: =J16/(J16+K16+L16)*100 -> 65.258851 | N16: =L16/(J16+K16+L16)*100 -> 2.0181781 | O16: =RANK(C16,$C$3:$C$23,0) -> 14
A17: Ιρλανδία | B17: Ireland | C17: 1.81 | D17: 0.22 | E17: 2.19 | F17: 0.9 | G17: 3.4 | H17: =((1+C17/100)/(1+G17/100)-1)*100 -> -1.5377176 | I17: =((1+D17/100)/(1+G17/100)-1)*100 -> -3.0754352 | J17: 153400 | K17: 19568 | L17: 7760 | M17: =J17/(J17+K17+L17)*100 -> 84.878934 | N17: =L17/(J17+K17+L17)*100 -> 4.2937453 | O17: =RANK(C17,$C$3:$C$23,0) -> 15
A18: Πορτογαλία | B18: Portugal | C18: 1.62 | D18: 0.04 | E18: 1.11 | G18: 3.6 | H18: =((1+C18/100)/(1+G18/100)-1)*100 -> -1.9111969 | I18: =((1+D18/100)/(1+G18/100)-1)*100 -> -3.4362934 | J18: 90709.36 | K18: 115381.42 | L18: 3176.38 | M18: =J18/(J18+K18+L18)*100 -> 43.346199 | N18: =L18/(J18+K18+L18)*100 -> 1.5178588 | O18: =RANK(C18,$C$3:$C$23,0) -> 16
A19: Βουλγαρία | B19: Bulgaria | C19: 1.4 | D19: 0.01 | E19: 0.58 | F19: 0.41 | G19: 5 | H19: =((1+C19/100)/(1+G19/100)-1)*100 -> -3.4285714 | I19: =((1+D19/100)/(1+G19/100)-1)*100 -> -4.752381 | J19: 42049.93 | K19: 15262.47 | L19: 374.5 | M19: =J19/(J19+K19+L19)*100 -> 72.893378 | N19: =L19/(J19+K19+L19)*100 -> 0.64919418 | O19: =RANK(C19,$C$3:$C$23,0) -> 17
A20: Κύπρος | B20: Cyprus | C20: 1.35 | D20: 0 | E20: 0.86 | F20: 0.03 | G20: 5.2 | H20: =((1+C20/100)/(1+G20/100)-1)*100 -> -3.6596958 | I20: =((1+D20/100)/(1+G20/100)-1)*100 -> -4.9429658 | J20: 19176 | K20: 11148 | L20: 1515 | M20: =J20/(J20+K20+L20)*100 -> 60.228022 | N20: =L20/(J20+K20+L20)*100 -> 4.7583153 | O20: =RANK(C20,$C$3:$C$23,0) -> 18
A21: Κροατία | B21: Croatia | C21: 1.29 | D21: 0.02 | E21: 1.29 | F21: 2.04 | G21: 3.7 | H21: =((1+C21/100)/(1+G21/100)-1)*100 -> -2.3240116 | I21: =((1+D21/100)/(1+G21/100)-1)*100 -> -3.5486982 | J21: 34721 | K21: 10074 | L21: 0 | M21: =J21/(J21+K21+L21)*100 -> 77.510883 | N21: =L21/(J21+K21+L21)*100 -> 0 | O21: =RANK(C21,$C$3:$C$23,0) -> 19
A22: Ελλάδα | B22: Greece | C22: 1.17 | D22: 0.03 | E22: 1.19 | G22: 3.7 | H22: =((1+C22/100)/(1+G22/100)-1)*100 -> -2.43973 | I22: =((1+D22/100)/(1+G22/100)-1)*100 -> -3.539055 | J22: 123435 | K22: 33100 | L22: 1559 | M22: =J22/(J22+K22+L22)*100 -> 78.076967 | N22: =L22/(J22+K22+L22)*100 -> 0.98612218 | O22: =RANK(C22,$C$3:$C$23,0) -> 20
A23: Σλοβενία | B23: Slovenia | C23: 0.75 | D23: 0.1 | E23: 1.47 | F23: 1.4 | G23: 3.4 | H23: =((1+C23/100)/(1+G23/100)-1)*100 -> -2.5628627 | I23: =((1+D23/100)/(1+G23/100)-1)*100 -> -3.1914894 | J23: 26777.693 | K23: 3982.903 | L23: 0 | M23: =J23/(J23+K23+L23)*100 -> 87.051932 | N23: =L23/(J23+K23+L23)*100 -> 0 | O23: =RANK(C23,$C$3:$C$23,0) -> 21
A25: Ευρωζώνη | B25: Euro area | C25: 2.13 | D25: 0.29 | E25: 1.93 | F25: 1.25 | G25: 3.2 | H25: =((1+C25/100)/(1+G25/100)-1)*100 -> -1.0368217 | I25: =((1+D25/100)/(1+G25/100)-1)*100 -> -2.8197674 | J25: 5531256.5 | K25: 1921619.9 | L25: 2498731.7 | M25: =J25/(J25+K25+L25)*100 -> 55.581535 | N25: =L25/(J25+K25+L25)*100 -> 25.108824
A26: Η ευρωζώνη είναι ο σταθμισμένος μέσος όρος που δημοσιεύει η ΕΚΤ και δεν μετρά στην κατάταξη.

Sheet Ελλάδα και ευρωζώνη
A1: Μήνας | B1: Ελλάδα: νέες προθεσμιακές έως 1 έτους (%) | C1: Ευρωζώνη: νέες προθεσμιακές έως 1 έτους (%) | D1: Απόσταση (ποσοστιαίες μονάδες) | E1: Ελλάδα: όψεως και ταμιευτηρίου (%) | F1: Ευρωζώνη: όψεως και ταμιευτηρίου (%) | G1: Ελλάδα: πληθωρισμός (%) | H1: Ευρωζώνη: πληθωρισμός (%) | I1: Θέση Ελλάδας στις 21 χώρες
A2: 2019-01 | B2: 0.61 | C2: 0.34 | D2: =C2-B2 -> -0.27 | E2: 0.09 | F2: 0.03 | G2: 0.5 | H2: 1.4 | I2: ='Κατάταξη ανά μήνα'!W2 -> 7
A3: 2019-02 | B3: 0.58 | C3: 0.32 | D3: =C3-B3 -> -0.26 | E3: 0.09 | F3: 0.03 | G3: 0.8 | H3: 1.5 | I3: ='Κατάταξη ανά μήνα'!W3 -> 5
A4: 2019-03 | B4: 0.58 | C4: 0.29 | D4: =C4-B4 -> -0.29 | E4: 0.09 | F4: 0.03 | G4: 1.1 | H4: 1.4 | I4: ='Κατάταξη ανά μήνα'!W4 -> 5
A5: 2019-04 | B5: 0.6 | C5: 0.32 | D5: =C5-B5 -> -0.28 | E5: 0.09 | F5: 0.03 | G5: 1.1 | H5: 1.7 | I5: ='Κατάταξη ανά μήνα'!W5 -> 6
A6: 2019-05 | B6: 0.55 | C6: 0.29 | D6: =C6-B6 -> -0.26 | E6: 0.09 | F6: 0.03 | G6: 0.6 | H6: 1.2 | I6: ='Κατάταξη ανά μήνα'!W6 -> 8
A7: 2019-06 | B7: 0.56 | C7: 0.3 | D7: =C7-B7 -> -0.26 | E7: 0.09 | F7: 0.03 | G7: 0.2 | H7: 1.3 | I7: ='Κατάταξη ανά μήνα'!W7 -> 8
A8: 2019-07 | B8: 0.57 | C8: 0.3 | D8: =C8-B8 -> -0.27 | E8: 0.09 | F8: 0.03 | G8: 0.4 | H8: 1 | I8: ='Κατάταξη ανά μήνα'!W8 -> 7
A9: 2019-08 | B9: 0.54 | C9: 0.28 | D9: =C9-B9 -> -0.26 | E9: 0.09 | F9: 0.03 | G9: 0.1 | H9: 1 | I9: ='Κατάταξη ανά μήνα'!W9 -> 7
A10: 2019-09 | B10: 0.45 | C10: 0.26 | D10: =C10-B10 -> -0.19 | E10: 0.09 | F10: 0.03 | G10: 0.2 | H10: 0.8 | I10: ='Κατάταξη ανά μήνα'!W10 -> 8
A11: 2019-10 | B11: 0.39 | C11: 0.23 | D11: =C11-B11 -> -0.16 | E11: 0.09 | F11: 0.03 | G11: -0.3 | H11: 0.7 | I11: ='Κατάταξη ανά μήνα'!W11 -> 8
A12: 2019-11 | B12: 0.36 | C12: 0.22 | D12: =C12-B12 -> -0.14 | E12: 0.09 | F12: 0.03 | G12: 0.5 | H12: 1 | I12: ='Κατάταξη ανά μήνα'!W12 -> 8
A13: 2019-12 | B13: 0.35 | C13: 0.21 | D13: =C13-B13 -> -0.14 | E13: 0.08 | F13: 0.03 | G13: 1.1 | H13: 1.3 | I13: ='Κατάταξη ανά μήνα'!W13 -> 8
... A93: 2026-08 | B93: 1.17 | C93: 2.13 | D93: =C93-B93 -> 0.96 | E93: 0.03 | F93: 0.29 | G93: 3.7 | H93: 3.2 | I93: ='Κατάταξη ανά μήνα'!W93 -> 20

Sheet Υπολογισμοί
A1: Υπολογισμός | B1: Τιμή | C1: Πώς προκύπτει
A2: Θέση Ελλάδας στις 21 χώρες, νέες προθεσμιακές έως 1 έτους | B2: =Χώρες!O22 -> 20 | C2: RANK του ελληνικού επιτοκίου ανάμεσα στις 21 χώρες. Σε ισοβαθμία οι χώρες παίρνουν την ίδια θέση.
A3: Απόσταση από την ευρωζώνη (ποσοστιαίες μονάδες) | B3: =Χώρες!C25-Χώρες!C22 -> 0.96 | C3: Επιτόκιο ευρωζώνης μείον επιτόκιο Ελλάδας
A4: Τόκος για 10.000 € σε νέα προθεσμιακή για έναν χρόνο, Ελλάδα (€) | B4: =10000*Χώρες!C22/100 -> 117 | C4: 10.000 × επιτόκιο
A5: Ο ίδιος τόκος με το μέσο επιτόκιο της ευρωζώνης (€) | B5: =10000*Χώρες!C25/100 -> 213 | C5: 10.000 × επιτόκιο ευρωζώνης
A6: Μεταβολή αγοραστικής δύναμης για 10.000 € σε νέα προθεσμιακή (€) | B6: =10000*((1+Χώρες!C22/100)/(1+Χώρες!G22/100)-1) -> -243.973 | C6: 10.000 × ((1 + επιτόκιο) / (1 + πληθωρισμός) − 1). Ενδεικτικό: υποθέτει ότι επιτόκιο και πληθωρισμός μένουν ίδιοι για έναν χρόνο.
A7: Μεταβολή αγοραστικής δύναμης για 10.000 € σε όψεως και ταμιευτηρίου (€) | B7: =10000*((1+Χώρες!D22/100)/(1+Χώρες!G22/100)-1) -> -353.9055 | C7: Ο ίδιος τύπος με το επιτόκιο όψεως και ταμιευτηρίου
A8: Επιπλέον τόκοι στους λογαριασμούς όψεως και ταμιευτηρίου με το επιτόκιο της ευρωζώνης (εκατ. € τον χρόνο) | B8: =Χώρες!J22*(Χώρες!D25-Χώρες!D22)/100 -> 320.931 | C8: Υπόλοιπο Ελλάδας × (επιτόκιο ευρωζώνης − επιτόκιο Ελλάδας). Υποθετικός υπολογισμός για το ίδιο είδος λογαριασμού, όχι απώλεια που έχει καταγραφεί.
A9: Επιπλέον τόκοι στις προθεσμιακές με το επιτόκιο υπολοίπων της ευρωζώνης (εκατ. € τον χρόνο) | B9: =Χώρες!K22*(Χώρες!E25-Χώρες!E22)/100 -> 244.94 | C9: Υπόλοιπο Ελλάδας × (επιτόκιο υπολοίπων ευρωζώνης − Ελλάδας). Λιγότερο ακριβής: οι προθεσμιακές διαφέρουν σε διάρκεια από χώρα σε χώρα.
A10: Σύνολο των δύο (εκατ. € τον χρόνο) | B10: =B8+B9 -> 565.871 | C10: Άθροισμα, με τις ίδιες επιφυλάξεις
A11: Καταθέσεις νοικοκυριών στις τράπεζες στην Ελλάδα (εκατ. €) | B11: =Χώρες!J22+Χώρες!K22+Χώρες!L22 -> 158094 | C11: Όψεως και ταμιευτηρίου, προθεσμιακές και με προειδοποίηση, σε όλα τα νομίσματα
A12: Μέσο επιτόκιο καταθέσεων χωρίς προθεσμία, Ελλάδα (%) | B12: =('Αρχικά στοιχεία'!F33*'Αρχικά στοιχεία'!F77)/('Αρχικά στοιχεία'!F77) -> 0.03 | C12: Υπολογισμός Logifin. Για την Ελλάδα η ΕΚΤ δεν δημοσιεύει επιτόκιο για τις καταθέσεις με προειδοποίηση, οπότε μετρούν μόνο οι λογαριασμοί όψεως και ταμιευτηρίου.
A13: Μέσο επιτόκιο καταθέσεων χωρίς προθεσμία, ευρωζώνη (%) | B13: =('Αρχικά στοιχεία'!F45*'Αρχικά στοιχεία'!F89+'Αρχικά στοιχεία'!F174*'Αρχικά στοιχεία'!F206+'Αρχικά στοιχεία'!F184*'Αρχικά στοιχεία'!F228)/('Αρχικά στοιχεία'!F89+'Αρχικά στοιχεία'!F206+'Αρχικά στοιχεία'!F228) -> 0.59717196 | C13: Υπολογισμός Logifin: όψεως και ταμιευτηρίου μαζί με τις καταθέσεις με προειδοποίηση (έως 3 μήνες και άνω), σταθμισμένα με τα υπόλοιπα
A14: Μέσο επιτόκιο όλων των καταθέσεων με προειδοποίηση, ευρωζώνη (%) | B14: =('Αρχικά στοιχεία'!F174*'Αρχικά στοιχεία'!F206+'Αρχικά στοιχεία'!F184*'Αρχικά στοιχεία'!F228)/('Αρχικά στοιχεία'!F206+'Αρχικά στοιχεία'!F228) -> 1.2771357 | C14: Υπολογισμός Logifin: έως 3 μήνες και άνω των 3 μηνών, σταθμισμένα με τα υπόλοιπα

Sheet Κατάταξη ανά μήνα
A1: Μήνας | B1: Αυστρία | C1: Βέλγιο | D1: Βουλγαρία | E1: Κύπρος | F1: Γερμανία | G1: Εσθονία | H1: Ισπανία | I1: Φινλανδία | J1: Γαλλία | K1: Ελλάδα | L1: Κροατία | M1: Ιρλανδία | N1: Ιταλία | O1: Λιθουανία | P1: Λουξεμβούργο | Q1: Λετονία | R1: Μάλτα | S1: Ολλανδία | T1: Πορτογαλία | U1: Σλοβενία | V1: Σλοβακία | W1: Θέση Ελλάδας | X1: Χώρες με στοιχεία
A2: 2019-01 | B2: 0.23 | C2: 0.2 | D2: 0.14 | E2: 0.36 | F2: 0.28 | G2: 0.43 | H2: 0.04 | I2: 0.28 | J2: 0.91 | K2: 0.61 | L2: 0.11 | M2: 0.03 | N2: 0.88 | O2: 0.2 | P2: 0.23 | Q2: 0.68 | R2: 0.69 | S2: 1.14 | T2: 0.14 | U2: 0.16 | V2: 0.99 | W2: =RANK(K2,B2:V2,0) -> 7 | X2: =COUNT(B2:V2) -> 21
A3: 2019-02 | B3: 0.24 | C3: 0.16 | D3: 0.14 | E3: 0.38 | F3: 0.29 | G3: 0.44 | H3: 0.04 | I3: 0.21 | J3: 1.1 | K3: 0.58 | L3: 0.08 | M3: 0.03 | N3: 0.9 | O3: 0.2 | P3: 0.04 | Q3: 0.46 | R3: 0.56 | S3: 1.22 | T3: 0.13 | U3: 0.18 | V3: 1.18 | W3: =RANK(K3,B3:V3,0) -> 5 | X3: =COUNT(B3:V3) -> 21
A4: 2019-03 | B4: 0.24 | C4: 0.18 | D4: 0.14 | E4: 0.36 | F4: 0.29 | G4: 0.43 | H4: 0.04 | I4: 0.21 | J4: 0.93 | K4: 0.58 | L4: 0.09 | M4: 0.03 | N4: 0.72 | O4: 0.2 | P4: 0.11 | Q4: 0.49 | R4: 0.46 | S4: 1.23 | T4: 0.12 | U4: 0.17 | V4: 1.22 | W4: =RANK(K4,B4:V4,0) -> 5 | X4: =COUNT(B4:V4) -> 21
A5: 2019-04 | B5: 0.2 | C5: 0.21 | D5: 0.15 | E5: 0.34 | F5: 0.29 | G5: 0.57 | H5: 0.04 | I5: 0.19 | J5: 1.08 | K5: 0.6 | L5: 0.11 | M5: 0.03 | N5: 0.71 | O5: 0.14 | P5: 0.08 | Q5: 0.63 | R5: 0.53 | S5: 1.25 | T5: 0.12 | U5: 0.16 | V5: 1.05 | W5: =RANK(K5,B5:V5,0) -> 6 | X5: =COUNT(B5:V5) -> 21
A6: 2019-05 | B6: 0.19 | C6: 0.15 | D6: 0.14 | E6: 0.34 | F6: 0.13 | G6: 0.68 | H6: 0.04 | I6: 0.28 | J6: 1.13 | K6: 0.55 | L6: 0.11 | M6: 0.04 | N6: 0.65 | O6: 0.15 | P6: 0.06 | Q6: 0.71 | R6: 0.64 | S6: 1.34 | T6: 0.12 | U6: 0.19 | V6: 1.18 | W6: =RANK(K6,B6:V6,0) -> 8 | X6: =COUNT(B6:V6) -> 21
A7: 2019-06 | B7: 0.2 | C7: 0.16 | D7: 0.13 | E7: 0.32 | F7: 0.1 | G7: 0.71 | H7: 0.04 | I7: 0.33 | J7: 1.25 | K7: 0.56 | L7: 0.1 | M7: 0.03 | N7: 0.68 | O7: 0.14 | P7: 0.32 | Q7: 0.63 | R7: 0.58 | S7: 1.38 | T7: 0.12 | U7: 0.17 | V7: 0.57 | W7: =RANK(K7,B7:V7,0) -> 8 | X7: =COUNT(B7:V7) -> 21
A8: 2019-07 | B8: 0.2 | C8: 0.11 | D8: 0.16 | E8: 0.2 | F8: 0.12 | G8: 0.9 | H8: 0.04 | I8: 0.23 | J8: 1.15 | K8: 0.57 | L8: 0.11 | M8: 0.03 | N8: 0.66 | O8: 0.14 | P8: 0.16 | Q8: 0.57 | R8: 0.61 | S8: 1.3 | T8: 0.11 | U8: 0.15 | V8: 0.78 | W8: =RANK(K8,B8:V8,0) -> 7 | X8: =COUNT(B8:V8) -> 21
A9: 2019-08 | B9: 0.15 | C9: 0.11 | D9: 0.14 | E9: 0.17 | F9: 0.15 | G9: 0.82 | H9: 0.03 | I9: 0.27 | J9: 0.96 | K9: 0.54 | L9: 0.1 | M9: 0.04 | N9: 0.66 | O9: 0.15 | P9: 0.11 | Q9: 0.36 | R9: 0.59 | S9: 1.29 | T9: 0.1 | U9: 0.16 | V9: 0.71 | W9: =RANK(K9,B9:V9,0) -> 7 | X9: =COUNT(B9:V9) -> 21
A10: 2019-09 | B10: 0.14 | C10: 0.06 | D10: 0.13 | E10: 0.16 | F10: 0.14 | G10: 0.82 | H10: 0.03 | I10: 0.24 | J10: 0.95 | K10: 0.45 | L10: 0.11 | M10: 0.03 | N10: 0.68 | O10: 0.14 | P10: 0.43 | Q10: 0.53 | R10: 0.65 | S10: 1.26 | T10: 0.08 | U10: 0.16 | V10: 0.82 | W10: =RANK(K10,B10:V10,0) -> 8 | X10: =COUNT(B10:V10) -> 21
A11: 2019-10 | B11: 0.16 | C11: 0.11 | D11: 0.23 | E11: 0.12 | F11: 0.17 | G11: 0.8 | H11: 0.03 | I11: 0.1 | J11: 0.81 | K11: 0.39 | L11: 0.16 | M11: 0.02 | N11: 0.69 | O11: 0.12 | P11: 0.03 | Q11: 0.75 | R11: 0.52 | S11: 1.19 | T11: 0.08 | U11: 0.16 | V11: 0.84 | W11: =RANK(K11,B11:V11,0) -> 8 | X11: =COUNT(B11:V11) -> 21
A12: 2019-11 | B12: 0.13 | C12: 0.12 | D12: 0.21 | E12: 0.16 | F12: 0.18 | G12: 0.85 | H12: 0.03 | I12: 0.12 | J12: 0.86 | K12: 0.36 | L12: 0.12 | M12: 0.03 | N12: 0.61 | O12: 0.11 | P12: 0.02 | Q12: 0.57 | R12: 0.55 | S12: 1.17 | T12: 0.08 | U12: 0.17 | V12: 0.77 | W12: =RANK(K12,B12:V12,0) -> 8 | X12: =COUNT(B12:V12) -> 21
A13: 2019-12 | B13: 0.14 | C13: 0.1 | D13: 0.16 | E13: 0.16 | F13: 0.08 | G13: 0.79 | H13: 0.02 | I13: 0.12 | J13: 0.68 | K13: 0.35 | L13: 0.08 | M13: 0.02 | N13: 0.83 | O13: 0.14 | P13: 0.26 | Q13: 0.53 | R13: 0.5 | S13: 1.07 | T13: 0.07 | U13: 0.18 | V13: 0.74 | W13: =RANK(K13,B13:V13,0) -> 8 | X13: =COUNT(B13:V13) -> 21
... A93: 2026-08 | B93: 2.15 | C93: 2.14 | D93: 1.4 | E93: 1.35 | F93: 2.28 | G93: 2.35 | H93: 2.01 | I93: 2.53 | J93: 2.36 | K93: 1.17 | L93: 1.29 | M93: 1.81 | N93: 2.46 | O93: 2.43 | P93: 2 | Q93: 2.52 | R93: 2.24 | S93: 2.54 | T93: 1.62 | U93: 0.75 | V93: 2.18 | W93: =RANK(K93,B93:V93,0) -> 20 | X93: =COUNT(B93:V93) -> 21

Sheet Αρχικά στοιχεία
A1: Πηγή | B1: Σειρά | C1: Περιγραφή | D1: Χώρα | E1: Μήνας | F1: Τιμή | G1: Μονάδα | H1: Κατάσταση
A2: ΕΚΤ MIR | B2: MIR.M.AT.B.L22.F.R.A.2250.EUR.N | C2: Νέες προθεσμιακές καταθέσεις νοικοκυριών έως 1 έτους | D2: AT | E2: 2026-08 | F2: 2.15 | G2: % ετησίως | H2: A
A3: ΕΚΤ MIR | B3: MIR.M.BE.B.L22.F.R.A.2250.EUR.N | C3: Νέες προθεσμιακές καταθέσεις νοικοκυριών έως 1 έτους | D3: BE | E3: 2026-08 | F3: 2.14 | G3: % ετησίως | H3: A
A4: ΕΚΤ MIR | B4: MIR.M.BG.B.L22.F.R.A.2250.EUR.N | C4: Νέες προθεσμιακές καταθέσεις νοικοκυριών έως 1 έτους | D4: BG | E4: 2026-08 | F4: 1.4 | G4: % ετησίως | H4: A
A5: ΕΚΤ MIR | B5: MIR.M.CY.B.L22.F.R.A.2250.EUR.N | C5: Νέες προθεσμιακές καταθέσεις νοικοκυριών έως 1 έτους | D5: CY | E5: 2026-08 | F5: 1.35 | G5: % ετησίως | H5: A
A6: ΕΚΤ MIR | B6: MIR.M.DE.B.L22.F.R.A.2250.EUR.N | C6: Νέες προθεσμιακές καταθέσεις νοικοκυριών έως 1 έτους | D6: DE | E6: 2026-08 | F6: 2.28 | G6: % ετησίως | H6: P
A7: ΕΚΤ MIR | B7: MIR.M.EE.B.L22.F.R.A.2250.EUR.N | C7: Νέες προθεσμιακές καταθέσεις νοικοκυριών έως 1 έτους | D7: EE | E7: 2026-08 | F7: 2.35 | G7: % ετησίως | H7: A
A8: ΕΚΤ MIR | B8: MIR.M.ES.B.L22.F.R.A.2250.EUR.N | C8: Νέες προθεσμιακές καταθέσεις νοικοκυριών έως 1 έτους | D8: ES | E8: 2026-08 | F8: 2.01 | G8: % ετησίως | H8: P
A9: ΕΚΤ MIR | B9: MIR.M.FI.B.L22.F.R.A.2250.EUR.N | C9: Νέες προθεσμιακές καταθέσεις νοικοκυριών έως 1 έτους | D9: FI | E9: 2026-08 | F9: 2.53 | G9: % ετησίως | H9: A
A10: ΕΚΤ MIR | B10: MIR.M.FR.B.L22.F.R.A.2250.EUR.N | C10: Νέες προθεσμιακές καταθέσεις νοικοκυριών έως 1 έτους | D10: FR | E10: 2026-08 | F10: 2.36 | G10: % ετησίως | H10: P
A11: ΕΚΤ MIR | B11: MIR.M.GR.B.L22.F.R.A.2250.EUR.N | C11: Νέες προθεσμιακές καταθέσεις νοικοκυριών έως 1 έτους | D11: GR | E11: 2026-08 | F11: 1.17 | G11: % ετησίως | H11: A
A12: ΕΚΤ MIR | B12: MIR.M.HR.B.L22.F.R.A.2250.EUR.N | C12: Νέες προθεσμιακές καταθέσεις νοικοκυριών έως 1 έτους | D12: HR | E12: 2026-08 | F12: 1.29 | G12: % ετησίως | H12: A
A13: ΕΚΤ MIR | B13: MIR.M.IE.B.L22.F.R.A.2250.EUR.N | C13: Νέες προθεσμιακές καταθέσεις νοικοκυριών έως 1 έτους | D13: IE | E13: 2026-08 | F13: 1.81 | G13: % ετησίως | H13: A
... A228: ΕΚΤ BSI | B228: BSI.M.U2.N.A.L23.E.1.U2.2250.Z01.E | C228: Υπόλοιπο καταθέσεων με προειδοποίηση άνω των 3 μηνών, εκατ. € | D228: U2 | E228: 2026-08 | F228: 116904.77 | G228: εκατ. € | H228: A
A229: Eurostat | B229: prc_hicp_minr.M.RCH_A.TOTAL.AT | C229: Πληθωρισμός, ΕνΔΤΚ, ετήσια μεταβολή | D229: AT | E229: 2026-08 | F229: 2.9 | G229: %
A230: Eurostat | B230: prc_hicp_minr.M.RCH_A.TOTAL.BE | C230: Πληθωρισμός, ΕνΔΤΚ, ετήσια μεταβολή | D230: BE | E230: 2026-08 | F230: 4.2 | G230: %
A231: Eurostat | B231: prc_hicp_minr.M.RCH_A.TOTAL.BG | C231: Πληθωρισμός, ΕνΔΤΚ, ετήσια μεταβολή | D231: BG | E231: 2026-08 | F231: 5 | G231: %
A232: Eurostat | B232: prc_hicp_minr.M.RCH_A.TOTAL.CY | C232: Πληθωρισμός, ΕνΔΤΚ, ετήσια μεταβολή | D232: CY | E232: 2026-08 | F232: 5.2 | G232: %
A233: Eurostat | B233: prc_hicp_minr.M.RCH_A.TOTAL.DE | C233: Πληθωρισμός, ΕνΔΤΚ, ετήσια μεταβολή | D233: DE | E233: 2026-08 | F233: 2.9 | G233: %
A234: Eurostat | B234: prc_hicp_minr.M.RCH_A.TOTAL.EE | C234: Πληθωρισμός, ΕνΔΤΚ, ετήσια μεταβολή | D234: EE | E234: 2026-08 | F234: 1.3 | G234: %
A235: Eurostat | B235: prc_hicp_minr.M.RCH_A.TOTAL.ES | C235: Πληθωρισμός, ΕνΔΤΚ, ετήσια μεταβολή | D235: ES | E235: 2026-08 | F235: 4.6 | G235: %
A236: Eurostat | B236: prc_hicp_minr.M.RCH_A.TOTAL.FI | C236: Πληθωρισμός, ΕνΔΤΚ, ετήσια μεταβολή | D236: FI | E236: 2026-08 | F236: 2.4 | G236: %
A237: Eurostat | B237: prc_hicp_minr.M.RCH_A.TOTAL.FR | C237: Πληθωρισμός, ΕνΔΤΚ, ετήσια μεταβολή | D237: FR | E237: 2026-08 | F237: 2.6 | G237: %
A238: Eurostat | B238: prc_hicp_minr.M.RCH_A.TOTAL.EL | C238: Πληθωρισμός, ΕνΔΤΚ, ετήσια μεταβολή | D238: GR | E238: 2026-08 | F238: 3.7 | G238: %
A239: Eurostat | B239: prc_hicp_minr.M.RCH_A.TOTAL.HR | C239: Πληθωρισμός, ΕνΔΤΚ, ετήσια μεταβολή | D239: HR | E239: 2026-08 | F239: 3.7 | G239: %
A240: Eurostat | B240: prc_hicp_minr.M.RCH_A.TOTAL.IE | C240: Πληθωρισμός, ΕνΔΤΚ, ετήσια μεταβολή | D240: IE | E240: 2026-08 | F240: 3.4 | G240: %
... A250: Eurostat | B250: prc_hicp_minr.M.RCH_A.TOTAL.EA | C250: Πληθωρισμός, ΕνΔΤΚ, ετήσια μεταβολή | D250: U2 | E250: 2026-08 | F250: 3.2 | G250: %

Sheet Πηγές
A1: Στοιχείο | B1: Επίσημη σειρά (παράδειγμα για την Ελλάδα)
A2: Νέες προθεσμιακές καταθέσεις νοικοκυριών έως 1 έτους | B2: https://data-api.ecb.europa.eu/service/data/MIR/M.GR.B.L22.F.R.A.2250.EUR.N
A3: Καταθέσεις μίας ημέρας νοικοκυριών (όψεως και ταμιευτηρίου) | B3: https://data-api.ecb.europa.eu/service/data/MIR/M.GR.B.L21.A.R.A.2250.EUR.N
A4: Υπόλοιπα προθεσμιακών καταθέσεων νοικοκυριών | B4: https://data-api.ecb.europa.eu/service/data/MIR/M.GR.B.L22.A.R.A.2250.EUR.O
A5: Υπόλοιπο καταθέσεων μίας ημέρας νοικοκυριών, εκατ. € | B5: https://data-api.ecb.europa.eu/service/data/BSI/M.GR.N.A.L21.A.1.U2.2250.Z01.E
A6: Υπόλοιπο προθεσμιακών καταθέσεων νοικοκυριών, εκατ. € | B6: https://data-api.ecb.europa.eu/service/data/BSI/M.GR.N.A.L22.A.1.U2.2250.Z01.E
A7: Υπόλοιπο καταθέσεων με προειδοποίηση νοικοκυριών, εκατ. € | B7: https://data-api.ecb.europa.eu/service/data/BSI/M.GR.N.A.L23.A.1.U2.2250.Z01.E
A8: Νέες προθεσμιακές καταθέσεις νοικοκυριών, όλες οι διάρκειες | B8: https://data-api.ecb.europa.eu/service/data/MIR/M.GR.B.L22.A.R.A.2250.EUR.N
A9: Καταθέσεις νοικοκυριών με προειδοποίηση έως 3 μηνών | B9: https://data-api.ecb.europa.eu/service/data/MIR/M.GR.B.L23.D.R.A.2250.EUR.N
A10: Καταθέσεις νοικοκυριών με προειδοποίηση άνω των 3 μηνών | B10: https://data-api.ecb.europa.eu/service/data/MIR/M.GR.B.L23.E.R.A.2250.EUR.N
A11: Υπόλοιπο καταθέσεων με προειδοποίηση έως 3 μηνών, εκατ. € | B11: https://data-api.ecb.europa.eu/service/data/BSI/M.GR.N.A.L23.D.1.U2.2250.Z01.E
A12: Υπόλοιπο καταθέσεων με προειδοποίηση άνω των 3 μηνών, εκατ. € | B12: https://data-api.ecb.europa.eu/service/data/BSI/M.GR.N.A.L23.E.1.U2.2250.Z01.E
... A28: Άδεια | B28: Τα γραφήματα και οι υπολογισμοί του Logifin αναδημοσιεύονται ελεύθερα (CC BY 4.0) με την αναφορά «Πηγή: Logifin (logifin.eu), με στοιχεία ΕΚΤ και Eurostat». Τα πρωτογενή στοιχεία ανήκουν στην ΕΚΤ και στη Eurostat, που επιτρέπουν τη χρήση τους με αναφορά της πηγής.
